BEGIN:VCALENDAR
VERSION:2.0
PRODID:-//Cykla.se - ECPv4.9.13//NONSGML v1.0//EN
CALSCALE:GREGORIAN
METHOD:PUBLISH
X-WR-CALNAME:Cykla.se
X-ORIGINAL-URL:https://cykla.se
X-WR-CALDESC:Händelser för Cykla.se
BEGIN:VTIMEZONE
TZID:Europe/Stockholm
BEGIN:DAYLIGHT
TZOFFSETFROM:+0100
TZOFFSETTO:+0200
TZNAME:CEST
DTSTART:20240331T010000
END:DAYLIGHT
BEGIN:STANDARD
TZOFFSETFROM:+0200
TZOFFSETTO:+0100
TZNAME:CET
DTSTART:20241027T010000
END:STANDARD
END:VTIMEZONE
BEGIN:VEVENT
DTSTART;VALUE=DATE:20240608
DTEND;VALUE=DATE:20240609
DTSTAMP:20260421T020031
CREATED:20230901T091925Z
LAST-MODIFIED:20230901T091925Z
UID:134875-1717804800-1717891199@cykla.se
SUMMARY:Vätternrundan 100 km 2024
DESCRIPTION:Vätternrundan 100 km\, som har funnits sedan 2018\, är det senaste loppet i Cykelveckan. 2024 äger det rum den 8 juni. Loppet gör det möjligt att cykla elcykel i ett av Vätternrundans lopp. Vill du hellre ta dig an den 100 kilometer långa motionsutmaningen på en vanlig cykel så går det alldeles utmärkt! Banan är densamma som Tjejvättern\, så räkna med stumma ben i Ombergs backar och vacker natur längs Vättern och Östgötaslätten. Alla från 12 år har möjlighet att delta i loppet. Kommer du vara en av dem? Du anmäler dig  till loppet här. \nVätternrundan 100 km ingår i En Svensk Klassiker Tjej och En Svensk Klassiker Korta. \nHär kan du läsa mer om loppet! \n\nVill du få inspiration? Här hittar du reportage från loppet 2023. \n
URL:https://cykla.se/event/vatternrundan-100-km-2024/
LOCATION:Stadsparken\, Motala\, Stadsparken\, Motala\, 59135\, Sverige
CATEGORIES:Elcykling,Landsväg
END:VEVENT
END:VCALENDAR