BEGIN:VCALENDAR
VERSION:2.0
PRODID:-//Cykla.se - ECPv4.9.13//NONSGML v1.0//EN
CALSCALE:GREGORIAN
METHOD:PUBLISH
X-WR-CALNAME:Cykla.se
X-ORIGINAL-URL:https://cykla.se
X-WR-CALDESC:Händelser för Cykla.se
BEGIN:VTIMEZONE
TZID:Europe/Stockholm
BEGIN:DAYLIGHT
TZOFFSETFROM:+0100
TZOFFSETTO:+0200
TZNAME:CEST
DTSTART:20230326T010000
END:DAYLIGHT
BEGIN:STANDARD
TZOFFSETFROM:+0200
TZOFFSETTO:+0100
TZNAME:CET
DTSTART:20231029T010000
END:STANDARD
END:VTIMEZONE
BEGIN:VEVENT
DTSTART;VALUE=DATE:20230930
DTEND;VALUE=DATE:20231001
DTSTAMP:20260424T210701
CREATED:20230706T085844Z
LAST-MODIFIED:20230706T090011Z
UID:106281-1696032000-1696118399@cykla.se
SUMMARY:Vättern Bike Games 2023
DESCRIPTION:Det är dags för Vättern Bike Games 2023. Den 30 september är Vätternrundans höstarrangemang äntligen tillbaka i Motala! \nDen fullspäckade dagen rullar igång över skogsvägar\, stigar och backar när det är dags att kora vinnarna i den femte upplagan av MTB-lagtävlingen Team Challenge. Välj mellan att cykla 4 eller 8 timmar. Reglerna är enkla: Flest antal varv på den 5 kilometer långa banan på Bondebacka vinner! \nPå kvällen fortsätter vi ner till Lokverkstan\, där vi tar maxpulsen på landsvägscykling inomhus med den publikfriande elimineringssprinten Last One Standing. På plats i Lokverkstan kommer det även att bjudas på After Bike och prisutdelning\, missa inte det! \nFör de yngsta cyklisterna kommer det att finnas massor av kul aktiviteter både på Bondebacka och i Lokverkstan\, med alltifrån loppet Minivättern MTB till ett fartfyllt prova-på-område med pumptrack och mycket mer! \nSå vad väntar du på? Anmäl dig till Vättern Bike Games nu och upplev en dag fylld av cykellycka\, puls och härligt umgänge! \nLäs mer om evenemanget här. \n
URL:https://cykla.se/event/vattern-bike-games-2023-2/
LOCATION:Bondebacka\, Motala\, Radiovägen 20\, Motala\, 59135\, Sverige
CATEGORIES:Evenemang,MTB,Sprint
END:VEVENT
END:VCALENDAR