BEGIN:VCALENDAR
VERSION:2.0
PRODID:-//Cykla.se - ECPv4.9.13//NONSGML v1.0//EN
CALSCALE:GREGORIAN
METHOD:PUBLISH
X-WR-CALNAME:Cykla.se
X-ORIGINAL-URL:https://cykla.se
X-WR-CALDESC:Händelser för Cykla.se
BEGIN:VTIMEZONE
TZID:Europe/Stockholm
BEGIN:DAYLIGHT
TZOFFSETFROM:+0100
TZOFFSETTO:+0200
TZNAME:CEST
DTSTART:20200329T010000
END:DAYLIGHT
BEGIN:STANDARD
TZOFFSETFROM:+0200
TZOFFSETTO:+0100
TZNAME:CET
DTSTART:20201025T010000
END:STANDARD
END:VTIMEZONE
BEGIN:VEVENT
DTSTART;VALUE=DATE:20200125
DTEND;VALUE=DATE:20200126
DTSTAMP:20260426T000724
CREATED:20191122T093905Z
LAST-MODIFIED:20191122T094250Z
UID:37696-1579910400-1579996799@cykla.se
SUMMARY:Solsta Cykel Mattila Fatbike Marathon 2020
DESCRIPTION:Solsta Cykel Mattila Fatbike Marathon 2020\nGren: Fatbike\nPlats: Mattila\, utanför Torsby\nDatum: 25 januari 2020\nDistans: Motionsklass 21 km\, tävlingsklass 27 km\nArrangör: Mattila IK\, Östmarks IF \nCyklas på fatbike och arrangeras för tredje gången \n  \n
URL:https://cykla.se/event/solsta-cykel-mattila-fatbike-marathon-2020/
CATEGORIES:Fatbike
ORGANIZER;CN="Mattila%20IK":MAILTO:info@mattila.se
END:VEVENT
END:VCALENDAR