BEGIN:VCALENDAR
VERSION:2.0
PRODID:-//Cykla.se - ECPv4.9.13//NONSGML v1.0//EN
CALSCALE:GREGORIAN
METHOD:PUBLISH
X-WR-CALNAME:Cykla.se
X-ORIGINAL-URL:https://cykla.se
X-WR-CALDESC:Händelser för Cykla.se
BEGIN:VTIMEZONE
TZID:Europe/Stockholm
BEGIN:DAYLIGHT
TZOFFSETFROM:+0100
TZOFFSETTO:+0200
TZNAME:CEST
DTSTART:20190331T010000
END:DAYLIGHT
BEGIN:STANDARD
TZOFFSETFROM:+0200
TZOFFSETTO:+0100
TZNAME:CET
DTSTART:20191027T010000
END:STANDARD
END:VTIMEZONE
BEGIN:VEVENT
DTSTART;VALUE=DATE:20190914
DTEND;VALUE=DATE:20190915
DTSTAMP:20260425T163935
CREATED:20190801T130724Z
LAST-MODIFIED:20190801T130724Z
UID:37444-1568419200-1568505599@cykla.se
SUMMARY:Siljan 100 2019
DESCRIPTION:Siljan 100 är Sveriges första mountainbikelopp över 100 miles och går i Rättvik\, i vackra Dalarna. 100 miles är 160 kilometer\, vilket är det vanligaste loppformatet i USA och England.\nTotalt nås över 2 500 höjdmeter. \n
URL:https://cykla.se/event/siljan-100-2019/
LOCATION:Hovås\, Box 2015\, Hovås\, 436 02
CATEGORIES:MTB
END:VEVENT
END:VCALENDAR