BEGIN:VCALENDAR
VERSION:2.0
PRODID:-//Cykla.se - ECPv4.9.13//NONSGML v1.0//EN
CALSCALE:GREGORIAN
METHOD:PUBLISH
X-WR-CALNAME:Cykla.se
X-ORIGINAL-URL:https://cykla.se
X-WR-CALDESC:Händelser för Cykla.se
BEGIN:VTIMEZONE
TZID:Europe/Stockholm
BEGIN:DAYLIGHT
TZOFFSETFROM:+0100
TZOFFSETTO:+0200
TZNAME:CEST
DTSTART:20170326T010000
END:DAYLIGHT
BEGIN:STANDARD
TZOFFSETFROM:+0200
TZOFFSETTO:+0100
TZNAME:CET
DTSTART:20171029T010000
END:STANDARD
END:VTIMEZONE
BEGIN:VEVENT
DTSTART;VALUE=DATE:20170513
DTEND;VALUE=DATE:20170514
DTSTAMP:20260419T120449
CREATED:20161101T074453Z
LAST-MODIFIED:20180125T073540Z
UID:27373-1494633600-1494719999@cykla.se
SUMMARY:Shimano LVG – Skandisloppet 2017
DESCRIPTION:Skandisloppet är världens äldsta sammanhängande cykeltävling och har sedan 1909 arrangerats av Upsala CK.\nSkandisloppet LVG är ett motionslopp som körs lördagen den 13 maj i samband med att delar av Europaeliten gör upp i Scandinavian Race. En perfekt genomkörare inför Vätternrundan i natursköna Uppland. \nSkandisloppet erbjuder dig en unik möjlighet att cykla i samband med att proffsen jagar poäng på UCI-Europetour. Ta chansen att cykla 85 km eller 167 km i vackra Uppland och att efter avslutad runda titta på när proffs från hela världen går i mål i världens äldsta cykeltävling – Scandinavian Race. Alltsammans i de vackraste delarna av Uppsala. \nDe två längre banorna går söderut mot den första gemensamma depån i Sigtuna och skiljs därefter åt. 85 km rullar tillbaka till Uppsala via Alsike\, Mora stenar\, Sävja och Nåntuna. \n
URL:https://cykla.se/event/shimano-lvg-skandisloppet/
LOCATION:Uppsala\, Uppsala\, Sverige
CATEGORIES:Landsväg
ORGANIZER;CN="Upsala%20CK":MAILTO:goranmattsson.uck@hotmail.com
END:VEVENT
END:VCALENDAR