BEGIN:VCALENDAR
VERSION:2.0
PRODID:-//Cykla.se - ECPv4.9.13//NONSGML v1.0//EN
CALSCALE:GREGORIAN
METHOD:PUBLISH
X-WR-CALNAME:Cykla.se
X-ORIGINAL-URL:https://cykla.se
X-WR-CALDESC:Händelser för Cykla.se
BEGIN:VTIMEZONE
TZID:Europe/Stockholm
BEGIN:DAYLIGHT
TZOFFSETFROM:+0100
TZOFFSETTO:+0200
TZNAME:CEST
DTSTART:20190331T010000
END:DAYLIGHT
BEGIN:STANDARD
TZOFFSETFROM:+0200
TZOFFSETTO:+0100
TZNAME:CET
DTSTART:20191027T010000
END:STANDARD
END:VTIMEZONE
BEGIN:VEVENT
DTSTART;VALUE=DATE:20190201
DTEND;VALUE=DATE:20190202
DTSTAMP:20260426T043251
CREATED:20190103T103011Z
LAST-MODIFIED:20190103T103234Z
UID:35824-1548979200-1549065599@cykla.se
SUMMARY:SCF Svenska Mästerskap Trial Inomhus 2019
DESCRIPTION:Datum: 1 februari.\nPlats: Sundsvall.\nNivå: Elit. \n\nSvenska mästerskapen i trial inomhus 2019. \n
URL:https://cykla.se/event/scf-svenska-masterskap-trial-inomhus-2019/
LOCATION:Nordichallen Gärdehov\, Sundsvall\, Johannedalsvägen 123\, Sundsvall\, 85634\, Sverige
CATEGORIES:Trial
END:VEVENT
END:VCALENDAR