BEGIN:VCALENDAR
VERSION:2.0
PRODID:-//Cykla.se - ECPv4.9.13//NONSGML v1.0//EN
CALSCALE:GREGORIAN
METHOD:PUBLISH
X-WR-CALNAME:Cykla.se
X-ORIGINAL-URL:https://cykla.se
X-WR-CALDESC:Händelser för Cykla.se
BEGIN:VTIMEZONE
TZID:Europe/Stockholm
BEGIN:DAYLIGHT
TZOFFSETFROM:+0100
TZOFFSETTO:+0200
TZNAME:CEST
DTSTART:20240331T010000
END:DAYLIGHT
BEGIN:STANDARD
TZOFFSETFROM:+0200
TZOFFSETTO:+0100
TZNAME:CET
DTSTART:20241027T010000
END:STANDARD
END:VTIMEZONE
BEGIN:VEVENT
DTSTART;VALUE=DATE:20240609
DTEND;VALUE=DATE:20240610
DTSTAMP:20260423T181638
CREATED:20230901T085025Z
LAST-MODIFIED:20240530T080637Z
UID:134850-1717891200-1717977599@cykla.se
SUMMARY:MTB-Vättern 2024
DESCRIPTION:På klassisk mark i cykelstaden Motala körs MTB-Vättern 2024 den 9 juni. Det är ett mångsidigt mountainbikelopp med fantastiska vyer längs Göta Kanal och Vätterns strand. \nEtt namn – två distanser\nMTB-Vättern är ett instegslopp med två distanser – 50 km och 25 km. Både den långa och den korta distansen är relativt lättcyklade och alla från 8 år har möjlighet att delta i detta motionslopp. Du som deltagare kan räkna med en stor variation längs vägen – snabba asfaltspassager varvas med skogsvägar\, backar och mer teknisk cykling på stigar. \nHär kan du läsa mer om loppet. \nAnmäl dig till loppet här. \n\nHär kan du uppleva hur reportage från loppen 2023. \n
URL:https://cykla.se/event/mtb-vattern-2024/
LOCATION:Stadsparken\, Motala\, Stadsparken\, Motala\, 59135\, Sverige
CATEGORIES:MTB
END:VEVENT
END:VCALENDAR