BEGIN:VCALENDAR
VERSION:2.0
PRODID:-//Cykla.se - ECPv4.9.13//NONSGML v1.0//EN
CALSCALE:GREGORIAN
METHOD:PUBLISH
X-WR-CALNAME:Cykla.se
X-ORIGINAL-URL:https://cykla.se
X-WR-CALDESC:Händelser för Cykla.se
BEGIN:VTIMEZONE
TZID:Europe/Stockholm
BEGIN:DAYLIGHT
TZOFFSETFROM:+0100
TZOFFSETTO:+0200
TZNAME:CEST
DTSTART:20180325T010000
END:DAYLIGHT
BEGIN:STANDARD
TZOFFSETFROM:+0200
TZOFFSETTO:+0100
TZNAME:CET
DTSTART:20181028T010000
END:STANDARD
END:VTIMEZONE
BEGIN:VEVENT
DTSTART;TZID=Europe/Stockholm:20180611T170000
DTEND;TZID=Europe/Stockholm:20180611T190000
DTSTAMP:20260420T090859
CREATED:20180611T093511Z
LAST-MODIFIED:20180611T093511Z
UID:34841-1528736400-1528743600@cykla.se
SUMMARY:Minivättern 2018
DESCRIPTION:\n\nFinalen för ”Skoj med hoj” är loppet Minivättern\, med första start klockan 17.00. Precis som tidigare år finns det två banor – en lite kortare bana (1 km) och en lite längre bana (2\,7 km). Årets upplaga av Minivättern innehåller en hel del nyheter. En nyhet är att barnens ålder inte längre styr vilken bana de får cykla\, utan barnen väljer själva (eller i samråd med föräldrar/anhöriga) om de vill cykla den korta eller långa banan. En annan nyhet är att det inte kommer vara någon nedre åldersgräns för att få delta i Minivättern\, utan du som förälder/anhörig avgör om ditt barn är gammalt nog för att kunna vara med och cykla. En tredje och sista skojig nyhet är att även balanscyklar är tillåtna! \n\n\nBra att veta om Minivättern\n\n\nStart och mål: Vätternpromenaden\, nedanför Folkets Hus.\nBanlängd: 1 km/2\,7 km\nÅldersgräns: Ingen (men rekommenderad minimiålder är 3 år)\nFörsta start: 17.00 (korta banan)\nAntal barn/startgrupp: 10\nSaftdepå: Finns utmed banan\nMålgångsfika: Självklart! Fikat består av saft\, bullar\, bananer och blåbärssoppa.\nMinivätternmedalj: Fås efter målgång\nMinivättern t-shirt: Kan köpas i Stadiumbutiken på evenemangsområdet (öppen kl. 16.00-19.00)\nRegler: En bra och fungerande cykel/balanscykel samt en godkänd cykelhjälm är ett krav för att få delta i loppet \n\n\n
URL:https://cykla.se/event/minivattern-2018-2/
LOCATION:Stadsparken\, Motala\, Stadsparken\, Motala\, 59135\, Sverige
CATEGORIES:Landsväg
END:VEVENT
END:VCALENDAR