BEGIN:VCALENDAR
VERSION:2.0
PRODID:-//Cykla.se - ECPv4.9.13//NONSGML v1.0//EN
CALSCALE:GREGORIAN
METHOD:PUBLISH
X-WR-CALNAME:Cykla.se
X-ORIGINAL-URL:https://cykla.se
X-WR-CALDESC:Händelser för Cykla.se
BEGIN:VTIMEZONE
TZID:Europe/Stockholm
BEGIN:DAYLIGHT
TZOFFSETFROM:+0100
TZOFFSETTO:+0200
TZNAME:CEST
DTSTART:20190331T010000
END:DAYLIGHT
BEGIN:STANDARD
TZOFFSETFROM:+0200
TZOFFSETTO:+0100
TZNAME:CET
DTSTART:20191027T010000
END:STANDARD
END:VTIMEZONE
BEGIN:VEVENT
DTSTART;VALUE=DATE:20190427
DTEND;VALUE=DATE:20190428
DTSTAMP:20260424T073855
CREATED:20190103T124648Z
LAST-MODIFIED:20190103T124648Z
UID:35846-1556323200-1556409599@cykla.se
SUMMARY:Kolmårdsbiken 2019
DESCRIPTION:Datum: 27 april.\nPlats: Kolmården.\nNivå: Motion\, elit.\nDistans: 10\, 25\, 35\, 55 km. \n\nEtt MTB-långlopp för elit\, motionär\, ungdom och nybörjare i härlig och utslagsgivande kolmårdsterräng. \n
URL:https://cykla.se/event/kolmardsbiken-2019/
LOCATION:Kolmården\, Kolmården\, Sverige
CATEGORIES:MTB
END:VEVENT
END:VCALENDAR