BEGIN:VCALENDAR
VERSION:2.0
PRODID:-//Cykla.se - ECPv4.9.13//NONSGML v1.0//EN
CALSCALE:GREGORIAN
METHOD:PUBLISH
X-WR-CALNAME:Cykla.se
X-ORIGINAL-URL:https://cykla.se
X-WR-CALDESC:Händelser för Cykla.se
BEGIN:VTIMEZONE
TZID:Europe/Stockholm
BEGIN:DAYLIGHT
TZOFFSETFROM:+0100
TZOFFSETTO:+0200
TZNAME:CEST
DTSTART:20250330T010000
END:DAYLIGHT
BEGIN:STANDARD
TZOFFSETFROM:+0200
TZOFFSETTO:+0100
TZNAME:CET
DTSTART:20251026T010000
END:STANDARD
END:VTIMEZONE
BEGIN:VEVENT
DTSTART;VALUE=DATE:20250607
DTEND;VALUE=DATE:20250608
DTSTAMP:20260425T184346
CREATED:20241016T094345Z
LAST-MODIFIED:20241016T100047Z
UID:138904-1749254400-1749340799@cykla.se
SUMMARY:Halvvättern 150 km 2025
DESCRIPTION:Halvvättern 2025 äger rum den 7 juni. Det är 150 kilometer långt och är ett lika utmanande som vackert långlopp. I loppet byts tuffa klättringar på Omberg  mot storslagna vyer vid Vätterns strand och fortsätter över slingrande landsvägar och böljande rapsfält på din väg mot målet i Motala. Ses vi vid startlinjen? Anmäl dig här. \nHär kan du läsa mer om loppet. Vill du få mer inspiration? Kolla in reportagen från loppet 2024. \n
URL:https://cykla.se/event/halvvattern-150-km-2025/
LOCATION:Stadsparken\, Motala\, Stadsparken\, Motala\, 59135\, Sverige
CATEGORIES:Landsväg
END:VEVENT
END:VCALENDAR